BEGIN:VCALENDAR
VERSION:2.0
PRODID:-//The UC - ECPv6.15.20//NONSGML v1.0//EN
CALSCALE:GREGORIAN
METHOD:PUBLISH
X-ORIGINAL-URL:https://www.ucrockhill.com
X-WR-CALDESC:Events for The UC
REFRESH-INTERVAL;VALUE=DURATION:PT1H
X-Robots-Tag:noindex
X-PUBLISHED-TTL:PT1H
BEGIN:VTIMEZONE
TZID:America/New_York
BEGIN:DAYLIGHT
TZOFFSETFROM:-0500
TZOFFSETTO:-0400
TZNAME:EDT
DTSTART:20250309T070000
END:DAYLIGHT
BEGIN:STANDARD
TZOFFSETFROM:-0400
TZOFFSETTO:-0500
TZNAME:EST
DTSTART:20251102T060000
END:STANDARD
BEGIN:DAYLIGHT
TZOFFSETFROM:-0500
TZOFFSETTO:-0400
TZNAME:EDT
DTSTART:20260308T070000
END:DAYLIGHT
BEGIN:STANDARD
TZOFFSETFROM:-0400
TZOFFSETTO:-0500
TZNAME:EST
DTSTART:20261101T060000
END:STANDARD
BEGIN:DAYLIGHT
TZOFFSETFROM:-0500
TZOFFSETTO:-0400
TZNAME:EDT
DTSTART:20270314T070000
END:DAYLIGHT
BEGIN:STANDARD
TZOFFSETFROM:-0400
TZOFFSETTO:-0500
TZNAME:EST
DTSTART:20271107T060000
END:STANDARD
END:VTIMEZONE
BEGIN:VEVENT
DTSTART;VALUE=DATE:20261204
DTEND;VALUE=DATE:20261205
DTSTAMP:20260419T113513
CREATED:20260225T202930Z
LAST-MODIFIED:20260309T211033Z
UID:10001328-1796342400-1796428799@www.ucrockhill.com
SUMMARY:LR Productions Gymnastics
DESCRIPTION:
URL:https://www.ucrockhill.com/event/lr-productions-gymnastics/
LOCATION:Bleachery Fieldhouse\, 605 W White St\, Rock Hill\, SC\, 29730\, United States
CATEGORIES:Bleachery Fieldhouse
ATTACH;FMTTYPE=image/jpeg:https://www.ucrockhill.com/wp-content/uploads/The_UC-Bleachery_Fieldhouse.jpg
GEO:34.9341888;-81.0340247
X-APPLE-STRUCTURED-LOCATION;VALUE=URI;X-ADDRESS=Bleachery Fieldhouse 605 W White St Rock Hill SC 29730 United States;X-APPLE-RADIUS=500;X-TITLE=605 W White St:geo:-81.0340247,34.9341888
END:VEVENT
BEGIN:VEVENT
DTSTART;VALUE=DATE:20261204
DTEND;VALUE=DATE:20261205
DTSTAMP:20260419T113513
CREATED:20260310T154816Z
LAST-MODIFIED:20260310T154816Z
UID:10001418-1796342400-1796428799@www.ucrockhill.com
SUMMARY:NTBA top 8
DESCRIPTION:
URL:https://www.ucrockhill.com/event/ntba-top-8-3/
LOCATION:Rock Hill Sports and Event Center\, 326 Technology Center Way\, Rock Hill\, SC\, 29730\, United States
CATEGORIES:Rock Hill Sports and Event Center
ATTACH;FMTTYPE=image/jpeg:https://www.ucrockhill.com/wp-content/uploads/The-UC_Lowenstein-Old-Town-Kitchen-Cocktails_024.jpg
GEO:34.9326696;-81.0299489
X-APPLE-STRUCTURED-LOCATION;VALUE=URI;X-ADDRESS=Rock Hill Sports and Event Center 326 Technology Center Way Rock Hill SC 29730 United States;X-APPLE-RADIUS=500;X-TITLE=326 Technology Center Way:geo:-81.0299489,34.9326696
END:VEVENT
BEGIN:VEVENT
DTSTART;VALUE=DATE:20261205
DTEND;VALUE=DATE:20261206
DTSTAMP:20260419T113513
CREATED:20260225T202939Z
LAST-MODIFIED:20260309T211036Z
UID:10001329-1796428800-1796515199@www.ucrockhill.com
SUMMARY:LR Productions Gymnastics
DESCRIPTION:
URL:https://www.ucrockhill.com/event/lr-productions-gymnastics-2/
LOCATION:Bleachery Fieldhouse\, 605 W White St\, Rock Hill\, SC\, 29730\, United States
CATEGORIES:Bleachery Fieldhouse
ATTACH;FMTTYPE=image/jpeg:https://www.ucrockhill.com/wp-content/uploads/The_UC-Bleachery_Fieldhouse.jpg
GEO:34.9341888;-81.0340247
X-APPLE-STRUCTURED-LOCATION;VALUE=URI;X-ADDRESS=Bleachery Fieldhouse 605 W White St Rock Hill SC 29730 United States;X-APPLE-RADIUS=500;X-TITLE=605 W White St:geo:-81.0340247,34.9341888
END:VEVENT
BEGIN:VEVENT
DTSTART;VALUE=DATE:20261205
DTEND;VALUE=DATE:20261206
DTSTAMP:20260419T113513
CREATED:20260310T153228Z
LAST-MODIFIED:20260310T153228Z
UID:10001362-1796428800-1796515199@www.ucrockhill.com
SUMMARY:NTBA
DESCRIPTION:
URL:https://www.ucrockhill.com/event/ntba/
LOCATION:Rock Hill Sports and Event Center\, 326 Technology Center Way\, Rock Hill\, SC\, 29730\, United States
CATEGORIES:Rock Hill Sports and Event Center
ATTACH;FMTTYPE=image/jpeg:https://www.ucrockhill.com/wp-content/uploads/The-UC_Lowenstein-Old-Town-Kitchen-Cocktails_024.jpg
GEO:34.9326696;-81.0299489
X-APPLE-STRUCTURED-LOCATION;VALUE=URI;X-ADDRESS=Rock Hill Sports and Event Center 326 Technology Center Way Rock Hill SC 29730 United States;X-APPLE-RADIUS=500;X-TITLE=326 Technology Center Way:geo:-81.0299489,34.9326696
END:VEVENT
BEGIN:VEVENT
DTSTART;VALUE=DATE:20261205
DTEND;VALUE=DATE:20261206
DTSTAMP:20260419T113513
CREATED:20260310T154822Z
LAST-MODIFIED:20260310T154822Z
UID:10001419-1796428800-1796515199@www.ucrockhill.com
SUMMARY:NTBA top 8
DESCRIPTION:
URL:https://www.ucrockhill.com/event/ntba-top-8-4/
LOCATION:Rock Hill Sports and Event Center\, 326 Technology Center Way\, Rock Hill\, SC\, 29730\, United States
CATEGORIES:Rock Hill Sports and Event Center
ATTACH;FMTTYPE=image/jpeg:https://www.ucrockhill.com/wp-content/uploads/The-UC_Lowenstein-Old-Town-Kitchen-Cocktails_024.jpg
GEO:34.9326696;-81.0299489
X-APPLE-STRUCTURED-LOCATION;VALUE=URI;X-ADDRESS=Rock Hill Sports and Event Center 326 Technology Center Way Rock Hill SC 29730 United States;X-APPLE-RADIUS=500;X-TITLE=326 Technology Center Way:geo:-81.0299489,34.9326696
END:VEVENT
BEGIN:VEVENT
DTSTART;VALUE=DATE:20261206
DTEND;VALUE=DATE:20261207
DTSTAMP:20260419T113513
CREATED:20260225T202943Z
LAST-MODIFIED:20260309T211038Z
UID:10001330-1796515200-1796601599@www.ucrockhill.com
SUMMARY:LR Productions Gymnastics
DESCRIPTION:
URL:https://www.ucrockhill.com/event/lr-productions-gymnastics-3/
LOCATION:Bleachery Fieldhouse\, 605 W White St\, Rock Hill\, SC\, 29730\, United States
CATEGORIES:Bleachery Fieldhouse
ATTACH;FMTTYPE=image/jpeg:https://www.ucrockhill.com/wp-content/uploads/The_UC-Bleachery_Fieldhouse.jpg
GEO:34.9341888;-81.0340247
X-APPLE-STRUCTURED-LOCATION;VALUE=URI;X-ADDRESS=Bleachery Fieldhouse 605 W White St Rock Hill SC 29730 United States;X-APPLE-RADIUS=500;X-TITLE=605 W White St:geo:-81.0340247,34.9341888
END:VEVENT
BEGIN:VEVENT
DTSTART;VALUE=DATE:20261206
DTEND;VALUE=DATE:20261207
DTSTAMP:20260419T113513
CREATED:20260310T153704Z
LAST-MODIFIED:20260310T153704Z
UID:10001363-1796515200-1796601599@www.ucrockhill.com
SUMMARY:NTBA
DESCRIPTION:
URL:https://www.ucrockhill.com/event/ntba-2/
LOCATION:Rock Hill Sports and Event Center\, 326 Technology Center Way\, Rock Hill\, SC\, 29730\, United States
CATEGORIES:Rock Hill Sports and Event Center
ATTACH;FMTTYPE=image/jpeg:https://www.ucrockhill.com/wp-content/uploads/The-UC_Lowenstein-Old-Town-Kitchen-Cocktails_024.jpg
GEO:34.9326696;-81.0299489
X-APPLE-STRUCTURED-LOCATION;VALUE=URI;X-ADDRESS=Rock Hill Sports and Event Center 326 Technology Center Way Rock Hill SC 29730 United States;X-APPLE-RADIUS=500;X-TITLE=326 Technology Center Way:geo:-81.0299489,34.9326696
END:VEVENT
BEGIN:VEVENT
DTSTART;VALUE=DATE:20261211
DTEND;VALUE=DATE:20261212
DTSTAMP:20260419T113513
CREATED:20260219T231344Z
LAST-MODIFIED:20260310T154824Z
UID:10001017-1796947200-1797033599@www.ucrockhill.com
SUMMARY:NC AAU Basketball
DESCRIPTION:
URL:https://www.ucrockhill.com/event/nc-aau-basketball-4/
LOCATION:Rock Hill Sports and Event Center\, 326 Technology Center Way\, Rock Hill\, SC\, 29730\, United States
CATEGORIES:Rock Hill Sports and Event Center
ATTACH;FMTTYPE=image/jpeg:https://www.ucrockhill.com/wp-content/uploads/The-UC_Lowenstein-Old-Town-Kitchen-Cocktails_024.jpg
GEO:34.9326696;-81.0299489
X-APPLE-STRUCTURED-LOCATION;VALUE=URI;X-ADDRESS=Rock Hill Sports and Event Center 326 Technology Center Way Rock Hill SC 29730 United States;X-APPLE-RADIUS=500;X-TITLE=326 Technology Center Way:geo:-81.0299489,34.9326696
END:VEVENT
BEGIN:VEVENT
DTSTART;VALUE=DATE:20261212
DTEND;VALUE=DATE:20261213
DTSTAMP:20260419T113513
CREATED:20260219T231350Z
LAST-MODIFIED:20260310T154827Z
UID:10001018-1797033600-1797119999@www.ucrockhill.com
SUMMARY:NC AAU Basketball
DESCRIPTION:
URL:https://www.ucrockhill.com/event/nc-aau-basketball-5/
LOCATION:Rock Hill Sports and Event Center\, 326 Technology Center Way\, Rock Hill\, SC\, 29730\, United States
CATEGORIES:Rock Hill Sports and Event Center
ATTACH;FMTTYPE=image/jpeg:https://www.ucrockhill.com/wp-content/uploads/The-UC_Lowenstein-Old-Town-Kitchen-Cocktails_024.jpg
GEO:34.9326696;-81.0299489
X-APPLE-STRUCTURED-LOCATION;VALUE=URI;X-ADDRESS=Rock Hill Sports and Event Center 326 Technology Center Way Rock Hill SC 29730 United States;X-APPLE-RADIUS=500;X-TITLE=326 Technology Center Way:geo:-81.0299489,34.9326696
END:VEVENT
BEGIN:VEVENT
DTSTART;VALUE=DATE:20261213
DTEND;VALUE=DATE:20261214
DTSTAMP:20260419T113513
CREATED:20260219T231356Z
LAST-MODIFIED:20260310T153715Z
UID:10001019-1797120000-1797206399@www.ucrockhill.com
SUMMARY:NC AAU Basketball
DESCRIPTION:
URL:https://www.ucrockhill.com/event/nc-aau-basketball-6/
LOCATION:Rock Hill Sports and Event Center\, 326 Technology Center Way\, Rock Hill\, SC\, 29730\, United States
CATEGORIES:Rock Hill Sports and Event Center
ATTACH;FMTTYPE=image/jpeg:https://www.ucrockhill.com/wp-content/uploads/The-UC_Lowenstein-Old-Town-Kitchen-Cocktails_024.jpg
GEO:34.9326696;-81.0299489
X-APPLE-STRUCTURED-LOCATION;VALUE=URI;X-ADDRESS=Rock Hill Sports and Event Center 326 Technology Center Way Rock Hill SC 29730 United States;X-APPLE-RADIUS=500;X-TITLE=326 Technology Center Way:geo:-81.0299489,34.9326696
END:VEVENT
BEGIN:VEVENT
DTSTART;VALUE=DATE:20261219
DTEND;VALUE=DATE:20261220
DTSTAMP:20260419T113513
CREATED:20260310T153718Z
LAST-MODIFIED:20260310T153718Z
UID:10001364-1797638400-1797724799@www.ucrockhill.com
SUMMARY:EYBL
DESCRIPTION:
URL:https://www.ucrockhill.com/event/eybl/
LOCATION:Rock Hill Sports and Event Center\, 326 Technology Center Way\, Rock Hill\, SC\, 29730\, United States
CATEGORIES:Rock Hill Sports and Event Center
ATTACH;FMTTYPE=image/jpeg:https://www.ucrockhill.com/wp-content/uploads/The-UC_Lowenstein-Old-Town-Kitchen-Cocktails_024.jpg
GEO:34.9326696;-81.0299489
X-APPLE-STRUCTURED-LOCATION;VALUE=URI;X-ADDRESS=Rock Hill Sports and Event Center 326 Technology Center Way Rock Hill SC 29730 United States;X-APPLE-RADIUS=500;X-TITLE=326 Technology Center Way:geo:-81.0299489,34.9326696
END:VEVENT
BEGIN:VEVENT
DTSTART;VALUE=DATE:20261220
DTEND;VALUE=DATE:20261221
DTSTAMP:20260419T113513
CREATED:20260310T153723Z
LAST-MODIFIED:20260310T153723Z
UID:10001365-1797724800-1797811199@www.ucrockhill.com
SUMMARY:EYBL
DESCRIPTION:
URL:https://www.ucrockhill.com/event/eybl-2/
LOCATION:Rock Hill Sports and Event Center\, 326 Technology Center Way\, Rock Hill\, SC\, 29730\, United States
CATEGORIES:Rock Hill Sports and Event Center
ATTACH;FMTTYPE=image/jpeg:https://www.ucrockhill.com/wp-content/uploads/The-UC_Lowenstein-Old-Town-Kitchen-Cocktails_024.jpg
GEO:34.9326696;-81.0299489
X-APPLE-STRUCTURED-LOCATION;VALUE=URI;X-ADDRESS=Rock Hill Sports and Event Center 326 Technology Center Way Rock Hill SC 29730 United States;X-APPLE-RADIUS=500;X-TITLE=326 Technology Center Way:geo:-81.0299489,34.9326696
END:VEVENT
BEGIN:VEVENT
DTSTART;VALUE=DATE:20261224
DTEND;VALUE=DATE:20261225
DTSTAMP:20260419T113513
CREATED:20260219T231427Z
LAST-MODIFIED:20260310T154829Z
UID:10001027-1798070400-1798156799@www.ucrockhill.com
SUMMARY:City Holiday Half Day
DESCRIPTION:
URL:https://www.ucrockhill.com/event/city-holiday-half-day-2/
LOCATION:Rock Hill Sports and Event Center\, 326 Technology Center Way\, Rock Hill\, SC\, 29730\, United States
CATEGORIES:Rock Hill Sports and Event Center
ATTACH;FMTTYPE=image/jpeg:https://www.ucrockhill.com/wp-content/uploads/The-UC_Lowenstein-Old-Town-Kitchen-Cocktails_024.jpg
GEO:34.9326696;-81.0299489
X-APPLE-STRUCTURED-LOCATION;VALUE=URI;X-ADDRESS=Rock Hill Sports and Event Center 326 Technology Center Way Rock Hill SC 29730 United States;X-APPLE-RADIUS=500;X-TITLE=326 Technology Center Way:geo:-81.0299489,34.9326696
END:VEVENT
BEGIN:VEVENT
DTSTART;VALUE=DATE:20261225
DTEND;VALUE=DATE:20261226
DTSTAMP:20260419T113513
CREATED:20260219T231432Z
LAST-MODIFIED:20260310T154834Z
UID:10001028-1798156800-1798243199@www.ucrockhill.com
SUMMARY:Christmas
DESCRIPTION:
URL:https://www.ucrockhill.com/event/christmas-2/
LOCATION:Rock Hill Sports and Event Center\, 326 Technology Center Way\, Rock Hill\, SC\, 29730\, United States
CATEGORIES:Rock Hill Sports and Event Center
ATTACH;FMTTYPE=image/jpeg:https://www.ucrockhill.com/wp-content/uploads/The-UC_Lowenstein-Old-Town-Kitchen-Cocktails_024.jpg
GEO:34.9326696;-81.0299489
X-APPLE-STRUCTURED-LOCATION;VALUE=URI;X-ADDRESS=Rock Hill Sports and Event Center 326 Technology Center Way Rock Hill SC 29730 United States;X-APPLE-RADIUS=500;X-TITLE=326 Technology Center Way:geo:-81.0299489,34.9326696
END:VEVENT
BEGIN:VEVENT
DTSTART;VALUE=DATE:20261226
DTEND;VALUE=DATE:20261227
DTSTAMP:20260419T113513
CREATED:20260219T231439Z
LAST-MODIFIED:20260310T154839Z
UID:10001029-1798243200-1798329599@www.ucrockhill.com
SUMMARY:City Holiday
DESCRIPTION:
URL:https://www.ucrockhill.com/event/city-holiday-2/
LOCATION:Rock Hill Sports and Event Center\, 326 Technology Center Way\, Rock Hill\, SC\, 29730\, United States
CATEGORIES:Rock Hill Sports and Event Center
ATTACH;FMTTYPE=image/jpeg:https://www.ucrockhill.com/wp-content/uploads/The-UC_Lowenstein-Old-Town-Kitchen-Cocktails_024.jpg
GEO:34.9326696;-81.0299489
X-APPLE-STRUCTURED-LOCATION;VALUE=URI;X-ADDRESS=Rock Hill Sports and Event Center 326 Technology Center Way Rock Hill SC 29730 United States;X-APPLE-RADIUS=500;X-TITLE=326 Technology Center Way:geo:-81.0299489,34.9326696
END:VEVENT
END:VCALENDAR