BEGIN:VCALENDAR
VERSION:2.0
PRODID:-//The UC - ECPv6.15.20//NONSGML v1.0//EN
CALSCALE:GREGORIAN
METHOD:PUBLISH
X-WR-CALNAME:The UC
X-ORIGINAL-URL:https://www.ucrockhill.com
X-WR-CALDESC:Events for The UC
REFRESH-INTERVAL;VALUE=DURATION:PT1H
X-Robots-Tag:noindex
X-PUBLISHED-TTL:PT1H
BEGIN:VTIMEZONE
TZID:America/New_York
BEGIN:DAYLIGHT
TZOFFSETFROM:-0500
TZOFFSETTO:-0400
TZNAME:EDT
DTSTART:20250309T070000
END:DAYLIGHT
BEGIN:STANDARD
TZOFFSETFROM:-0400
TZOFFSETTO:-0500
TZNAME:EST
DTSTART:20251102T060000
END:STANDARD
BEGIN:DAYLIGHT
TZOFFSETFROM:-0500
TZOFFSETTO:-0400
TZNAME:EDT
DTSTART:20260308T070000
END:DAYLIGHT
BEGIN:STANDARD
TZOFFSETFROM:-0400
TZOFFSETTO:-0500
TZNAME:EST
DTSTART:20261101T060000
END:STANDARD
BEGIN:DAYLIGHT
TZOFFSETFROM:-0500
TZOFFSETTO:-0400
TZNAME:EDT
DTSTART:20270314T070000
END:DAYLIGHT
BEGIN:STANDARD
TZOFFSETFROM:-0400
TZOFFSETTO:-0500
TZNAME:EST
DTSTART:20271107T060000
END:STANDARD
END:VTIMEZONE
BEGIN:VEVENT
DTSTART;VALUE=DATE:20260801
DTEND;VALUE=DATE:20260802
DTSTAMP:20260421T080719
CREATED:20260310T152113Z
LAST-MODIFIED:20260310T154528Z
UID:10001345-1785542400-1785628799@www.ucrockhill.com
SUMMARY:ACL
DESCRIPTION:
URL:https://www.ucrockhill.com/event/acl-19/
LOCATION:Rock Hill Sports and Event Center\, 326 Technology Center Way\, Rock Hill\, SC\, 29730\, United States
CATEGORIES:Rock Hill Sports and Event Center
ATTACH;FMTTYPE=image/jpeg:https://www.ucrockhill.com/wp-content/uploads/The-UC_Lowenstein-Old-Town-Kitchen-Cocktails_024.jpg
GEO:34.9326696;-81.0299489
X-APPLE-STRUCTURED-LOCATION;VALUE=URI;X-ADDRESS=Rock Hill Sports and Event Center 326 Technology Center Way Rock Hill SC 29730 United States;X-APPLE-RADIUS=500;X-TITLE=326 Technology Center Way:geo:-81.0299489,34.9326696
END:VEVENT
BEGIN:VEVENT
DTSTART;VALUE=DATE:20260802
DTEND;VALUE=DATE:20260803
DTSTAMP:20260421T080719
CREATED:20260310T152120Z
LAST-MODIFIED:20260310T152120Z
UID:10001346-1785628800-1785715199@www.ucrockhill.com
SUMMARY:ACL
DESCRIPTION:
URL:https://www.ucrockhill.com/event/acl-20/
LOCATION:Rock Hill Sports and Event Center\, 326 Technology Center Way\, Rock Hill\, SC\, 29730\, United States
CATEGORIES:Rock Hill Sports and Event Center
ATTACH;FMTTYPE=image/jpeg:https://www.ucrockhill.com/wp-content/uploads/The-UC_Lowenstein-Old-Town-Kitchen-Cocktails_024.jpg
GEO:34.9326696;-81.0299489
X-APPLE-STRUCTURED-LOCATION;VALUE=URI;X-ADDRESS=Rock Hill Sports and Event Center 326 Technology Center Way Rock Hill SC 29730 United States;X-APPLE-RADIUS=500;X-TITLE=326 Technology Center Way:geo:-81.0299489,34.9326696
END:VEVENT
BEGIN:VEVENT
DTSTART;VALUE=DATE:20260807
DTEND;VALUE=DATE:20260808
DTSTAMP:20260421T080719
CREATED:20260220T161738Z
LAST-MODIFIED:20260310T154534Z
UID:10001164-1786060800-1786147199@www.ucrockhill.com
SUMMARY:Phenom
DESCRIPTION:
URL:https://www.ucrockhill.com/event/phenom-58/
LOCATION:Rock Hill Sports and Event Center\, 326 Technology Center Way\, Rock Hill\, SC\, 29730\, United States
CATEGORIES:Rock Hill Sports and Event Center
ATTACH;FMTTYPE=image/jpeg:https://www.ucrockhill.com/wp-content/uploads/The-UC_Lowenstein-Old-Town-Kitchen-Cocktails_024.jpg
GEO:34.9326696;-81.0299489
X-APPLE-STRUCTURED-LOCATION;VALUE=URI;X-ADDRESS=Rock Hill Sports and Event Center 326 Technology Center Way Rock Hill SC 29730 United States;X-APPLE-RADIUS=500;X-TITLE=326 Technology Center Way:geo:-81.0299489,34.9326696
END:VEVENT
BEGIN:VEVENT
DTSTART;VALUE=DATE:20260808
DTEND;VALUE=DATE:20260809
DTSTAMP:20260421T080719
CREATED:20260220T161741Z
LAST-MODIFIED:20260310T154537Z
UID:10001165-1786147200-1786233599@www.ucrockhill.com
SUMMARY:Phenom
DESCRIPTION:
URL:https://www.ucrockhill.com/event/phenom-59/
LOCATION:Rock Hill Sports and Event Center\, 326 Technology Center Way\, Rock Hill\, SC\, 29730\, United States
CATEGORIES:Rock Hill Sports and Event Center
ATTACH;FMTTYPE=image/jpeg:https://www.ucrockhill.com/wp-content/uploads/The-UC_Lowenstein-Old-Town-Kitchen-Cocktails_024.jpg
GEO:34.9326696;-81.0299489
X-APPLE-STRUCTURED-LOCATION;VALUE=URI;X-ADDRESS=Rock Hill Sports and Event Center 326 Technology Center Way Rock Hill SC 29730 United States;X-APPLE-RADIUS=500;X-TITLE=326 Technology Center Way:geo:-81.0299489,34.9326696
END:VEVENT
BEGIN:VEVENT
DTSTART;VALUE=DATE:20260809
DTEND;VALUE=DATE:20260810
DTSTAMP:20260421T080719
CREATED:20260220T161743Z
LAST-MODIFIED:20260310T152125Z
UID:10001166-1786233600-1786319999@www.ucrockhill.com
SUMMARY:Phenom
DESCRIPTION:
URL:https://www.ucrockhill.com/event/phenom-60/
LOCATION:Rock Hill Sports and Event Center\, 326 Technology Center Way\, Rock Hill\, SC\, 29730\, United States
CATEGORIES:Rock Hill Sports and Event Center
ATTACH;FMTTYPE=image/jpeg:https://www.ucrockhill.com/wp-content/uploads/The-UC_Lowenstein-Old-Town-Kitchen-Cocktails_024.jpg
GEO:34.9326696;-81.0299489
X-APPLE-STRUCTURED-LOCATION;VALUE=URI;X-ADDRESS=Rock Hill Sports and Event Center 326 Technology Center Way Rock Hill SC 29730 United States;X-APPLE-RADIUS=500;X-TITLE=326 Technology Center Way:geo:-81.0299489,34.9326696
END:VEVENT
BEGIN:VEVENT
DTSTART;VALUE=DATE:20260814
DTEND;VALUE=DATE:20260815
DTSTAMP:20260421T080719
CREATED:20260219T232944Z
LAST-MODIFIED:20260310T154539Z
UID:10001144-1786665600-1786751999@www.ucrockhill.com
SUMMARY:NC AAU Volleyball
DESCRIPTION:
URL:https://www.ucrockhill.com/event/nc-aau-volleyball-7/
LOCATION:Rock Hill Sports and Event Center\, 326 Technology Center Way\, Rock Hill\, SC\, 29730\, United States
CATEGORIES:Rock Hill Sports and Event Center
ATTACH;FMTTYPE=image/jpeg:https://www.ucrockhill.com/wp-content/uploads/The-UC_Lowenstein-Old-Town-Kitchen-Cocktails_024.jpg
GEO:34.9326696;-81.0299489
X-APPLE-STRUCTURED-LOCATION;VALUE=URI;X-ADDRESS=Rock Hill Sports and Event Center 326 Technology Center Way Rock Hill SC 29730 United States;X-APPLE-RADIUS=500;X-TITLE=326 Technology Center Way:geo:-81.0299489,34.9326696
END:VEVENT
BEGIN:VEVENT
DTSTART;VALUE=DATE:20260815
DTEND;VALUE=DATE:20260816
DTSTAMP:20260421T080719
CREATED:20260219T232946Z
LAST-MODIFIED:20260310T154542Z
UID:10001145-1786752000-1786838399@www.ucrockhill.com
SUMMARY:NC AAU Volleyball
DESCRIPTION:
URL:https://www.ucrockhill.com/event/nc-aau-volleyball-8/
LOCATION:Rock Hill Sports and Event Center\, 326 Technology Center Way\, Rock Hill\, SC\, 29730\, United States
CATEGORIES:Rock Hill Sports and Event Center
ATTACH;FMTTYPE=image/jpeg:https://www.ucrockhill.com/wp-content/uploads/The-UC_Lowenstein-Old-Town-Kitchen-Cocktails_024.jpg
GEO:34.9326696;-81.0299489
X-APPLE-STRUCTURED-LOCATION;VALUE=URI;X-ADDRESS=Rock Hill Sports and Event Center 326 Technology Center Way Rock Hill SC 29730 United States;X-APPLE-RADIUS=500;X-TITLE=326 Technology Center Way:geo:-81.0299489,34.9326696
END:VEVENT
BEGIN:VEVENT
DTSTART;VALUE=DATE:20260816
DTEND;VALUE=DATE:20260817
DTSTAMP:20260421T080719
CREATED:20260219T232949Z
LAST-MODIFIED:20260310T152215Z
UID:10001146-1786838400-1786924799@www.ucrockhill.com
SUMMARY:NC AAU Volleyball
DESCRIPTION:
URL:https://www.ucrockhill.com/event/nc-aau-volleyball-9/
LOCATION:Rock Hill Sports and Event Center\, 326 Technology Center Way\, Rock Hill\, SC\, 29730\, United States
CATEGORIES:Rock Hill Sports and Event Center
ATTACH;FMTTYPE=image/jpeg:https://www.ucrockhill.com/wp-content/uploads/The-UC_Lowenstein-Old-Town-Kitchen-Cocktails_024.jpg
GEO:34.9326696;-81.0299489
X-APPLE-STRUCTURED-LOCATION;VALUE=URI;X-ADDRESS=Rock Hill Sports and Event Center 326 Technology Center Way Rock Hill SC 29730 United States;X-APPLE-RADIUS=500;X-TITLE=326 Technology Center Way:geo:-81.0299489,34.9326696
END:VEVENT
BEGIN:VEVENT
DTSTART;VALUE=DATE:20260821
DTEND;VALUE=DATE:20260822
DTSTAMP:20260421T080719
CREATED:20260310T154548Z
LAST-MODIFIED:20260310T154548Z
UID:10001395-1787270400-1787356799@www.ucrockhill.com
SUMMARY:Big Shots
DESCRIPTION:
URL:https://www.ucrockhill.com/event/big-shots-66/
LOCATION:Rock Hill Sports and Event Center\, 326 Technology Center Way\, Rock Hill\, SC\, 29730\, United States
CATEGORIES:Rock Hill Sports and Event Center
ATTACH;FMTTYPE=image/jpeg:https://www.ucrockhill.com/wp-content/uploads/The-UC_Lowenstein-Old-Town-Kitchen-Cocktails_024.jpg
GEO:34.9326696;-81.0299489
X-APPLE-STRUCTURED-LOCATION;VALUE=URI;X-ADDRESS=Rock Hill Sports and Event Center 326 Technology Center Way Rock Hill SC 29730 United States;X-APPLE-RADIUS=500;X-TITLE=326 Technology Center Way:geo:-81.0299489,34.9326696
END:VEVENT
BEGIN:VEVENT
DTSTART;VALUE=DATE:20260822
DTEND;VALUE=DATE:20260823
DTSTAMP:20260421T080719
CREATED:20260219T232951Z
LAST-MODIFIED:20260310T154555Z
UID:10001147-1787356800-1787443199@www.ucrockhill.com
SUMMARY:Big Shots
DESCRIPTION:
URL:https://www.ucrockhill.com/event/big-shots-54/
LOCATION:Rock Hill Sports and Event Center\, 326 Technology Center Way\, Rock Hill\, SC\, 29730\, United States
CATEGORIES:Rock Hill Sports and Event Center
ATTACH;FMTTYPE=image/jpeg:https://www.ucrockhill.com/wp-content/uploads/The-UC_Lowenstein-Old-Town-Kitchen-Cocktails_024.jpg
GEO:34.9326696;-81.0299489
X-APPLE-STRUCTURED-LOCATION;VALUE=URI;X-ADDRESS=Rock Hill Sports and Event Center 326 Technology Center Way Rock Hill SC 29730 United States;X-APPLE-RADIUS=500;X-TITLE=326 Technology Center Way:geo:-81.0299489,34.9326696
END:VEVENT
BEGIN:VEVENT
DTSTART;VALUE=DATE:20260823
DTEND;VALUE=DATE:20260824
DTSTAMP:20260421T080719
CREATED:20260220T161731Z
LAST-MODIFIED:20260310T152219Z
UID:10001163-1787443200-1787529599@www.ucrockhill.com
SUMMARY:Big Shots
DESCRIPTION:
URL:https://www.ucrockhill.com/event/big-shots-55/
LOCATION:Rock Hill Sports and Event Center\, 326 Technology Center Way\, Rock Hill\, SC\, 29730\, United States
CATEGORIES:Rock Hill Sports and Event Center
ATTACH;FMTTYPE=image/jpeg:https://www.ucrockhill.com/wp-content/uploads/The-UC_Lowenstein-Old-Town-Kitchen-Cocktails_024.jpg
GEO:34.9326696;-81.0299489
X-APPLE-STRUCTURED-LOCATION;VALUE=URI;X-ADDRESS=Rock Hill Sports and Event Center 326 Technology Center Way Rock Hill SC 29730 United States;X-APPLE-RADIUS=500;X-TITLE=326 Technology Center Way:geo:-81.0299489,34.9326696
END:VEVENT
BEGIN:VEVENT
DTSTART;VALUE=DATE:20260829
DTEND;VALUE=DATE:20260830
DTSTAMP:20260421T080719
CREATED:20260225T202338Z
LAST-MODIFIED:20260309T210801Z
UID:10001324-1787961600-1788047999@www.ucrockhill.com
SUMMARY:Patel Volleyball
DESCRIPTION:
URL:https://www.ucrockhill.com/event/patel-volleyball/
LOCATION:Bleachery Fieldhouse\, 605 W White St\, Rock Hill\, SC\, 29730\, United States
CATEGORIES:Bleachery Fieldhouse
ATTACH;FMTTYPE=image/jpeg:https://www.ucrockhill.com/wp-content/uploads/The_UC-Bleachery_Fieldhouse.jpg
GEO:34.9341888;-81.0340247
X-APPLE-STRUCTURED-LOCATION;VALUE=URI;X-ADDRESS=Bleachery Fieldhouse 605 W White St Rock Hill SC 29730 United States;X-APPLE-RADIUS=500;X-TITLE=605 W White St:geo:-81.0340247,34.9341888
END:VEVENT
BEGIN:VEVENT
DTSTART;VALUE=DATE:20260829
DTEND;VALUE=DATE:20260830
DTSTAMP:20260421T080719
CREATED:20260310T152222Z
LAST-MODIFIED:20260310T152222Z
UID:10001347-1787961600-1788047999@www.ucrockhill.com
SUMMARY:PrepNetwork Basketball
DESCRIPTION:
URL:https://www.ucrockhill.com/event/prepnetwork-basketball-7/
LOCATION:Rock Hill Sports and Event Center\, 326 Technology Center Way\, Rock Hill\, SC\, 29730\, United States
CATEGORIES:Rock Hill Sports and Event Center
ATTACH;FMTTYPE=image/jpeg:https://www.ucrockhill.com/wp-content/uploads/The-UC_Lowenstein-Old-Town-Kitchen-Cocktails_024.jpg
GEO:34.9326696;-81.0299489
X-APPLE-STRUCTURED-LOCATION;VALUE=URI;X-ADDRESS=Rock Hill Sports and Event Center 326 Technology Center Way Rock Hill SC 29730 United States;X-APPLE-RADIUS=500;X-TITLE=326 Technology Center Way:geo:-81.0299489,34.9326696
END:VEVENT
BEGIN:VEVENT
DTSTART;VALUE=DATE:20260830
DTEND;VALUE=DATE:20260831
DTSTAMP:20260421T080719
CREATED:20260310T152412Z
LAST-MODIFIED:20260310T152412Z
UID:10001348-1788048000-1788134399@www.ucrockhill.com
SUMMARY:PrepNetwork Basketball
DESCRIPTION:
URL:https://www.ucrockhill.com/event/prepnetwork-basketball-8/
LOCATION:Rock Hill Sports and Event Center\, 326 Technology Center Way\, Rock Hill\, SC\, 29730\, United States
CATEGORIES:Rock Hill Sports and Event Center
ATTACH;FMTTYPE=image/jpeg:https://www.ucrockhill.com/wp-content/uploads/The-UC_Lowenstein-Old-Town-Kitchen-Cocktails_024.jpg
GEO:34.9326696;-81.0299489
X-APPLE-STRUCTURED-LOCATION;VALUE=URI;X-ADDRESS=Rock Hill Sports and Event Center 326 Technology Center Way Rock Hill SC 29730 United States;X-APPLE-RADIUS=500;X-TITLE=326 Technology Center Way:geo:-81.0299489,34.9326696
END:VEVENT
END:VCALENDAR